BEGIN:VCALENDAR
PRODID:-//Microsoft Corporation//Outlook 14.0 MIMEDIR//EN
VERSION:2.0
METHOD:PUBLISH
BEGIN:VEVENT
UID:1973c8b185400c4a2a477d8e201bc9aewww.batimentdurable.ca
DTSTAMP:20260420T080328Z
DTSTART:2026-03-13T12:00:0000Z
DTEND:2026-03-13T13:30:0000Z
SUMMARY:Webinaire - Construire des lieux plutôt que des bâtiments : Comment penser l’architecture comme processus et non comme finalité.
LOCATION:Visioconférence ZOOM
DESCRIPTION:Ce webinaire vous invite à déplacer le regard. De la seule construction de bâtiments, il faut évoluer vers la construction de lieux et de l’architecture au sens large. Par des exemples québécois et internationaux, il vous montrera lieux capables d’évoluer dans le temps, d’accueillir des usages multiples et de s’adapter à des réalités sociales, économiques et environnementales en constante mutation.
END:VEVENT
END:VCALENDAR